BEGIN:VCALENDAR
VERSION:2.0
PRODID:icalendar-ruby
CALSCALE:GREGORIAN
METHOD:PUBLISH
BEGIN:VEVENT
DTSTAMP:20260423T135309Z
UID:30-280179@axiom.church
DTSTART:20261101T140000Z
DTEND:20261101T153000Z
CLASS:PUBLIC
CREATED:20260423T082823
DESCRIPTION:
LAST-MODIFIED:20260423T082823
LOCATION:
SUMMARY:Sunday Service
URL;VALUE=URI:https://www.axiom.church/events/sunday-service/2026-11-01
END:VEVENT
END:VCALENDAR
