BEGIN:VCALENDAR
VERSION:2.0
PRODID:icalendar-ruby
CALSCALE:GREGORIAN
METHOD:PUBLISH
BEGIN:VEVENT
DTSTAMP:20260423T123241Z
UID:30-280178@axiom.church
DTSTART:20261025T130000Z
DTEND:20261025T143000Z
CLASS:PUBLIC
CREATED:20260423T082823
DESCRIPTION:
LAST-MODIFIED:20260423T082823
LOCATION:
SUMMARY:Sunday Service
URL;VALUE=URI:https://www.axiom.church/events/sunday-service/2026-10-25
END:VEVENT
END:VCALENDAR
