BEGIN:VCALENDAR
VERSION:2.0
PRODID:icalendar-ruby
CALSCALE:GREGORIAN
METHOD:PUBLISH
BEGIN:VEVENT
DTSTAMP:20260423T111828Z
UID:30-279994@axiom.church
DTSTART:20261018T130000Z
DTEND:20261018T143000Z
CLASS:PUBLIC
CREATED:20260422T225808
DESCRIPTION:
LAST-MODIFIED:20260422T225808
LOCATION:
SUMMARY:Sunday Service
URL;VALUE=URI:https://www.axiom.church/events/sunday-service/2026-10-18
END:VEVENT
END:VCALENDAR
