BEGIN:VCALENDAR
VERSION:2.0
PRODID:icalendar-ruby
CALSCALE:GREGORIAN
METHOD:PUBLISH
BEGIN:VEVENT
DTSTAMP:20260420T233515Z
UID:30-277612@axiom.church
DTSTART:20260927T130000Z
DTEND:20260927T143000Z
CLASS:PUBLIC
CREATED:20260420T183019
DESCRIPTION:
LAST-MODIFIED:20260420T183019
LOCATION:
SUMMARY:Sunday Service
URL;VALUE=URI:https://www.axiom.church/events/sunday-service/2026-09-27
END:VEVENT
END:VCALENDAR
