BEGIN:VCALENDAR
VERSION:2.0
PRODID:icalendar-ruby
CALSCALE:GREGORIAN
METHOD:PUBLISH
BEGIN:VEVENT
DTSTAMP:20260420T202925Z
UID:30-277427@axiom.church
DTSTART:20260913T130000Z
DTEND:20260913T143000Z
CLASS:PUBLIC
CREATED:20260420T155433
DESCRIPTION:
LAST-MODIFIED:20260420T155433
LOCATION:
SUMMARY:Sunday Service
URL;VALUE=URI:https://www.axiom.church/events/sunday-service/2026-09-13
END:VEVENT
END:VCALENDAR
