BEGIN:VCALENDAR
VERSION:2.0
PRODID:icalendar-ruby
CALSCALE:GREGORIAN
METHOD:PUBLISH
BEGIN:VEVENT
DTSTAMP:20260420T174229Z
UID:30-277242@axiom.church
DTSTART:20260830T130000Z
DTEND:20260830T143000Z
CLASS:PUBLIC
CREATED:20260420T131930
DESCRIPTION:
LAST-MODIFIED:20260420T131930
LOCATION:
SUMMARY:Sunday Service
URL;VALUE=URI:https://www.axiom.church/events/sunday-service/2026-08-30
END:VEVENT
END:VCALENDAR
