BEGIN:VCALENDAR
VERSION:2.0
PRODID:icalendar-ruby
CALSCALE:GREGORIAN
METHOD:PUBLISH
BEGIN:VEVENT
DTSTAMP:20260420T162839Z
UID:30-277058@axiom.church
DTSTART:20260823T130000Z
DTEND:20260823T143000Z
CLASS:PUBLIC
CREATED:20260420T104522
DESCRIPTION:
LAST-MODIFIED:20260420T104522
LOCATION:
SUMMARY:Sunday Service
URL;VALUE=URI:https://www.axiom.church/events/sunday-service/2026-08-23
END:VEVENT
END:VCALENDAR
