BEGIN:VCALENDAR
VERSION:2.0
PRODID:icalendar-ruby
CALSCALE:GREGORIAN
METHOD:PUBLISH
BEGIN:VEVENT
DTSTAMP:20260420T133830Z
UID:30-276873@axiom.church
DTSTART:20260809T130000Z
DTEND:20260809T143000Z
CLASS:PUBLIC
CREATED:20260420T081041
DESCRIPTION:
LAST-MODIFIED:20260420T081041
LOCATION:
SUMMARY:Sunday Service
URL;VALUE=URI:https://www.axiom.church/events/sunday-service/2026-08-09
END:VEVENT
END:VCALENDAR
