BEGIN:VCALENDAR
VERSION:2.0
PRODID:icalendar-ruby
CALSCALE:GREGORIAN
METHOD:PUBLISH
BEGIN:VEVENT
DTSTAMP:20260420T105316Z
UID:30-276688@axiom.church
DTSTART:20260726T130000Z
DTEND:20260726T143000Z
CLASS:PUBLIC
CREATED:20260420T032942
DESCRIPTION:
LAST-MODIFIED:20260420T032942
LOCATION:
SUMMARY:Sunday Service
URL;VALUE=URI:https://www.axiom.church/events/sunday-service/2026-07-26
END:VEVENT
END:VCALENDAR
