BEGIN:VCALENDAR
VERSION:2.0
PRODID:icalendar-ruby
CALSCALE:GREGORIAN
METHOD:PUBLISH
BEGIN:VEVENT
DTSTAMP:20260420T093442Z
UID:30-276687@axiom.church
DTSTART:20260719T130000Z
DTEND:20260719T143000Z
CLASS:PUBLIC
CREATED:20260420T032942
DESCRIPTION:
LAST-MODIFIED:20260420T032942
LOCATION:
SUMMARY:Sunday Service
URL;VALUE=URI:https://www.axiom.church/events/sunday-service/2026-07-19
END:VEVENT
END:VCALENDAR
