BEGIN:VCALENDAR
VERSION:2.0
PRODID:icalendar-ruby
CALSCALE:GREGORIAN
METHOD:PUBLISH
BEGIN:VEVENT
DTSTAMP:20260420T080019Z
UID:30-276686@axiom.church
DTSTART:20260712T130000Z
DTEND:20260712T143000Z
CLASS:PUBLIC
CREATED:20260420T032942
DESCRIPTION:
LAST-MODIFIED:20260420T032942
LOCATION:
SUMMARY:Sunday Service
URL;VALUE=URI:https://www.axiom.church/events/sunday-service/2026-07-12
END:VEVENT
END:VCALENDAR
