BEGIN:VCALENDAR
VERSION:2.0
PRODID:icalendar-ruby
CALSCALE:GREGORIAN
METHOD:PUBLISH
BEGIN:VEVENT
DTSTAMP:20260426T041151Z
UID:32-283412@axiom.church
DTSTART:20261101T180000Z
DTEND:20261101T193000Z
CLASS:PUBLIC
CREATED:20260425T214325
DESCRIPTION:
LAST-MODIFIED:20260425T214325
LOCATION:
SUMMARY:Sunday Service
URL;VALUE=URI:https://www.axiom.church/events/sunday-service--32/2026-11-01
END:VEVENT
END:VCALENDAR
