BEGIN:VCALENDAR
VERSION:2.0
PRODID:icalendar-ruby
CALSCALE:GREGORIAN
METHOD:PUBLISH
BEGIN:VEVENT
DTSTAMP:20260426T023448Z
UID:32-283411@axiom.church
DTSTART:20261025T170000Z
DTEND:20261025T183000Z
CLASS:PUBLIC
CREATED:20260425T214325
DESCRIPTION:
LAST-MODIFIED:20260425T214325
LOCATION:
SUMMARY:Sunday Service
URL;VALUE=URI:https://www.axiom.church/events/sunday-service--32/2026-10-25
END:VEVENT
END:VCALENDAR
