BEGIN:VCALENDAR
VERSION:2.0
PRODID:icalendar-ruby
CALSCALE:GREGORIAN
METHOD:PUBLISH
BEGIN:VEVENT
DTSTAMP:20260426T005435Z
UID:32-283227@axiom.church
DTSTART:20261018T170000Z
DTEND:20261018T183000Z
CLASS:PUBLIC
CREATED:20260425T190127
DESCRIPTION:
LAST-MODIFIED:20260425T190127
LOCATION:
SUMMARY:Sunday Service
URL;VALUE=URI:https://www.axiom.church/events/sunday-service--32/2026-10-18
END:VEVENT
END:VCALENDAR
