BEGIN:VCALENDAR
VERSION:2.0
PRODID:icalendar-ruby
CALSCALE:GREGORIAN
METHOD:PUBLISH
BEGIN:VEVENT
DTSTAMP:20260425T231431Z
UID:32-283226@axiom.church
DTSTART:20261011T170000Z
DTEND:20261011T183000Z
CLASS:PUBLIC
CREATED:20260425T190127
DESCRIPTION:
LAST-MODIFIED:20260425T190127
LOCATION:
SUMMARY:Sunday Service
URL;VALUE=URI:https://www.axiom.church/events/sunday-service--32/2026-10-11
END:VEVENT
END:VCALENDAR
