BEGIN:VCALENDAR
VERSION:2.0
PRODID:icalendar-ruby
CALSCALE:GREGORIAN
METHOD:PUBLISH
BEGIN:VEVENT
DTSTAMP:20260425T212238Z
UID:32-283042@axiom.church
DTSTART:20261004T170000Z
DTEND:20261004T183000Z
CLASS:PUBLIC
CREATED:20260425T161902
DESCRIPTION:
LAST-MODIFIED:20260425T161902
LOCATION:
SUMMARY:Sunday Service
URL;VALUE=URI:https://www.axiom.church/events/sunday-service--32/2026-10-04
END:VEVENT
END:VCALENDAR
