BEGIN:VCALENDAR
VERSION:2.0
PRODID:icalendar-ruby
CALSCALE:GREGORIAN
METHOD:PUBLISH
BEGIN:VEVENT
DTSTAMP:20260425T181331Z
UID:32-282857@axiom.church
DTSTART:20260920T170000Z
DTEND:20260920T183000Z
CLASS:PUBLIC
CREATED:20260425T133728
DESCRIPTION:
LAST-MODIFIED:20260425T133728
LOCATION:
SUMMARY:Sunday Service
URL;VALUE=URI:https://www.axiom.church/events/sunday-service--32/2026-09-20
END:VEVENT
END:VCALENDAR
