BEGIN:VCALENDAR
VERSION:2.0
PRODID:icalendar-ruby
CALSCALE:GREGORIAN
METHOD:PUBLISH
BEGIN:VEVENT
DTSTAMP:20260425T162510Z
UID:32-282673@axiom.church
DTSTART:20260913T170000Z
DTEND:20260913T183000Z
CLASS:PUBLIC
CREATED:20260425T105733
DESCRIPTION:
LAST-MODIFIED:20260425T105733
LOCATION:
SUMMARY:Sunday Service
URL;VALUE=URI:https://www.axiom.church/events/sunday-service--32/2026-09-13
END:VEVENT
END:VCALENDAR
