BEGIN:VCALENDAR
VERSION:2.0
PRODID:icalendar-ruby
CALSCALE:GREGORIAN
METHOD:PUBLISH
BEGIN:VEVENT
DTSTAMP:20260425T144448Z
UID:32-282489@axiom.church
DTSTART:20260906T170000Z
DTEND:20260906T183000Z
CLASS:PUBLIC
CREATED:20260425T081628
DESCRIPTION:
LAST-MODIFIED:20260425T081628
LOCATION:
SUMMARY:Sunday Service
URL;VALUE=URI:https://www.axiom.church/events/sunday-service--32/2026-09-06
END:VEVENT
END:VCALENDAR
