BEGIN:VCALENDAR
VERSION:2.0
PRODID:icalendar-ruby
CALSCALE:GREGORIAN
METHOD:PUBLISH
BEGIN:VEVENT
DTSTAMP:20260425T130213Z
UID:32-282488@axiom.church
DTSTART:20260830T170000Z
DTEND:20260830T183000Z
CLASS:PUBLIC
CREATED:20260425T081628
DESCRIPTION:
LAST-MODIFIED:20260425T081628
LOCATION:
SUMMARY:Sunday Service
URL;VALUE=URI:https://www.axiom.church/events/sunday-service--32/2026-08-30
END:VEVENT
END:VCALENDAR
