BEGIN:VCALENDAR
VERSION:2.0
PRODID:icalendar-ruby
CALSCALE:GREGORIAN
METHOD:PUBLISH
BEGIN:VEVENT
DTSTAMP:20260425T111519Z
UID:32-282304@axiom.church
DTSTART:20260823T170000Z
DTEND:20260823T183000Z
CLASS:PUBLIC
CREATED:20260424T223217
DESCRIPTION:
LAST-MODIFIED:20260424T223217
LOCATION:
SUMMARY:Sunday Service
URL;VALUE=URI:https://www.axiom.church/events/sunday-service--32/2026-08-23
END:VEVENT
END:VCALENDAR
