BEGIN:VCALENDAR
VERSION:2.0
PRODID:icalendar-ruby
CALSCALE:GREGORIAN
METHOD:PUBLISH
BEGIN:VEVENT
DTSTAMP:20260423T110004Z
UID:32-280106@axiom.church
DTSTART:20260809T170000Z
DTEND:20260809T183000Z
CLASS:PUBLIC
CREATED:20260422T225808
DESCRIPTION:
LAST-MODIFIED:20260422T225808
LOCATION:
SUMMARY:Sunday Service
URL;VALUE=URI:https://www.axiom.church/events/sunday-service--32/2026-08-09
END:VEVENT
END:VCALENDAR
