BEGIN:VCALENDAR
VERSION:2.0
PRODID:icalendar-ruby
CALSCALE:GREGORIAN
METHOD:PUBLISH
BEGIN:VEVENT
DTSTAMP:20260423T093048Z
UID:32-280105@axiom.church
DTSTART:20260802T170000Z
DTEND:20260802T183000Z
CLASS:PUBLIC
CREATED:20260422T225808
DESCRIPTION:
LAST-MODIFIED:20260422T225808
LOCATION:
SUMMARY:Sunday Service
URL;VALUE=URI:https://www.axiom.church/events/sunday-service--32/2026-08-02
END:VEVENT
END:VCALENDAR
