BEGIN:VCALENDAR
VERSION:2.0
PRODID:icalendar-ruby
CALSCALE:GREGORIAN
METHOD:PUBLISH
BEGIN:VEVENT
DTSTAMP:20260421T082400Z
UID:32-277906@axiom.church
DTSTART:20260712T170000Z
DTEND:20260712T183000Z
CLASS:PUBLIC
CREATED:20260420T210503
DESCRIPTION:
LAST-MODIFIED:20260420T210503
LOCATION:
SUMMARY:Sunday Service
URL;VALUE=URI:https://www.axiom.church/events/sunday-service--32/2026-07-12
END:VEVENT
END:VCALENDAR
