BEGIN:VCALENDAR
VERSION:2.0
PRODID:icalendar-ruby
CALSCALE:GREGORIAN
METHOD:PUBLISH
BEGIN:VEVENT
DTSTAMP:20260424T004228Z
UID:31-280968@axiom.church
DTSTART:20261004T150000Z
DTEND:20261004T163000Z
CLASS:PUBLIC
CREATED:20260423T200542
DESCRIPTION:
LAST-MODIFIED:20260423T200542
LOCATION:
SUMMARY:Sunday Service
URL;VALUE=URI:https://www.axiom.church/events/sunday-service--31/2026-10-04
END:VEVENT
END:VCALENDAR
