BEGIN:VCALENDAR
VERSION:2.0
PRODID:icalendar-ruby
CALSCALE:GREGORIAN
METHOD:PUBLISH
BEGIN:VEVENT
DTSTAMP:20260423T230110Z
UID:31-280784@axiom.church
DTSTART:20260927T150000Z
DTEND:20260927T163000Z
CLASS:PUBLIC
CREATED:20260423T171224
DESCRIPTION:
LAST-MODIFIED:20260423T171224
LOCATION:
SUMMARY:Sunday Service
URL;VALUE=URI:https://www.axiom.church/events/sunday-service--31/2026-09-27
END:VEVENT
END:VCALENDAR
