BEGIN:VCALENDAR
VERSION:2.0
PRODID:icalendar-ruby
CALSCALE:GREGORIAN
METHOD:PUBLISH
BEGIN:VEVENT
DTSTAMP:20260423T194609Z
UID:31-280599@axiom.church
DTSTART:20260913T150000Z
DTEND:20260913T163000Z
CLASS:PUBLIC
CREATED:20260423T141720
DESCRIPTION:
LAST-MODIFIED:20260423T141720
LOCATION:
SUMMARY:Sunday Service
URL;VALUE=URI:https://www.axiom.church/events/sunday-service--31/2026-09-13
END:VEVENT
END:VCALENDAR
