BEGIN:VCALENDAR
VERSION:2.0
PRODID:icalendar-ruby
CALSCALE:GREGORIAN
METHOD:PUBLISH
BEGIN:VEVENT
DTSTAMP:20260423T180440Z
UID:31-280415@axiom.church
DTSTART:20260906T150000Z
DTEND:20260906T163000Z
CLASS:PUBLIC
CREATED:20260423T112054
DESCRIPTION:
LAST-MODIFIED:20260423T112054
LOCATION:
SUMMARY:Sunday Service
URL;VALUE=URI:https://www.axiom.church/events/sunday-service--31/2026-09-06
END:VEVENT
END:VCALENDAR
