BEGIN:VCALENDAR
VERSION:2.0
PRODID:icalendar-ruby
CALSCALE:GREGORIAN
METHOD:PUBLISH
BEGIN:VEVENT
DTSTAMP:20260423T133300Z
UID:31-280229@axiom.church
DTSTART:20260816T150000Z
DTEND:20260816T163000Z
CLASS:PUBLIC
CREATED:20260423T082823
DESCRIPTION:
LAST-MODIFIED:20260423T082823
LOCATION:
SUMMARY:Sunday Service
URL;VALUE=URI:https://www.axiom.church/events/sunday-service--31/2026-08-16
END:VEVENT
END:VCALENDAR
