BEGIN:VCALENDAR
VERSION:2.0
PRODID:icalendar-ruby
CALSCALE:GREGORIAN
METHOD:PUBLISH
BEGIN:VEVENT
DTSTAMP:20260423T080626Z
UID:31-280042@axiom.church
DTSTART:20260719T150000Z
DTEND:20260719T163000Z
CLASS:PUBLIC
CREATED:20260422T225808
DESCRIPTION:
LAST-MODIFIED:20260422T225808
LOCATION:
SUMMARY:Sunday Service
URL;VALUE=URI:https://www.axiom.church/events/sunday-service--31/2026-07-19
END:VEVENT
END:VCALENDAR
