BEGIN:VCALENDAR
VERSION:2.0
PRODID:icalendar-ruby
CALSCALE:GREGORIAN
METHOD:PUBLISH
BEGIN:VEVENT
DTSTAMP:20260421T094829Z
UID:31-277845@axiom.church
DTSTART:20260712T150000Z
DTEND:20260712T163000Z
CLASS:PUBLIC
CREATED:20260420T210503
DESCRIPTION:
LAST-MODIFIED:20260420T210503
LOCATION:
SUMMARY:Sunday Service
URL;VALUE=URI:https://www.axiom.church/events/sunday-service--31/2026-07-12
END:VEVENT
END:VCALENDAR
