BEGIN:VCALENDAR
VERSION:2.0
PRODID:icalendar-ruby
CALSCALE:GREGORIAN
METHOD:PUBLISH
BEGIN:VEVENT
DTSTAMP:20260423T105804Z
UID:41-186432@axiom.church
DTSTART:20260623T210000Z
DTEND:20260623T223000Z
CLASS:PUBLIC
CREATED:20260113T192125
DESCRIPTION:Axiom Church desires to partner with our community by distribut
 ing basic hygiene products on a monthly basis.\nOpen to the public on the 
 4th\nTuesday of each Month 5 - 6:30pm!\n* No financial questions will be a
 sked *\nIf you have any questions or if there is an emergent need \, pleas
 e direct them to axiomchurchoutreach@gmail.com\n 
LAST-MODIFIED:20260113T192125
LOCATION:
SUMMARY:Hygiene Pantry
URL;VALUE=URI:https://www.axiom.church/events/hygiene-pantry/2026-06-23
ATTACH;FILENAME=IMG_5505.jpeg;FMTTYPE=image/jpeg:https://dq5pwpg1q8ru0.clou
 dfront.net/2026/01/14/00/21/25/e95e43cf-e835-423e-9760-17c334cbd4c3/IMG_55
 05.jpeg
END:VEVENT
END:VCALENDAR
