BEGIN:VCALENDAR
VERSION:2.0
PRODID:icalendar-ruby
CALSCALE:GREGORIAN
METHOD:PUBLISH
BEGIN:VEVENT
DTSTAMP:20260420T105159Z
UID:45-260571@axiom.church
DTSTART:20260426T150000Z
DTEND:20260426T163000Z
CLASS:PUBLIC
CREATED:20260404T205238
DESCRIPTION:CELEBRATION SUNDAY\n\nONE CHURCH. ONE MOMENT. ONE STEP OF FAITH
 .\nAfter 40 days of prayer and fasting\, seeking the Lord together and tru
 sting His direction\, we are stepping into a truly special moment in the l
 ife of our church.\nCelebration Sunday is coming on Sunday\, April 26.\n
 Special Message from Pastor Christian!\nThis is not just another service\,
  it is the moment we have been preparing our hearts for. A sacred opportun
 ity to come together as one church family\, in one place\, to respond to
  what God has been stirring in each of us.\nLocation: The Great Hall (512
 1 Bay City Rd\, Midland)\nTime: One combined service at 11 AM\nFor this S
 unday\, we will not gather in our usual three services. Instead\, we will 
 unite as one body\, filling the room together as a glimpse of what God is 
 building in our next chapter.\nThroughout this journey\, we’ve prayed\, 
 fasted\, listened\, and leaned into His leading. Now\, we come together to
 :\n Celebrate His faithfulness\n Worship with gratitude\n Step forward 
 in faith and obedience\n Bring our commitments before Him in joyful givin
 g\nThis is a moment of unity.\nA moment of response.\nA moment of trust.\n
 We believe God is doing something powerful in and through Axiom\, and this
  Sunday will mark a defining step forward\, together.\nWe can’t wait to 
 celebrate with you!\nGot questions? Check out our FAQ's here!\n
LAST-MODIFIED:20260404T205238
LOCATION:The Great Hall
SUMMARY:Celebration Sunday
URL;VALUE=URI:https://www.axiom.church/events/celebration-sunday/2026-04-26
ATTACH;FILENAME=IMG_1799.jpeg;FMTTYPE=image/jpeg:https://dq5pwpg1q8ru0.clou
 dfront.net/2026/04/05/00/52/38/17274be7-ef96-4edc-a235-ea5ae67daa87/IMG_17
 99.jpeg
END:VEVENT
END:VCALENDAR
