BEGIN:VCALENDAR
VERSION:2.0
PRODID:icalendar-ruby
CALSCALE:GREGORIAN
METHOD:PUBLISH
BEGIN:VEVENT
DTSTAMP:20260423T081233Z
UID:46-271950@axiom.church
DTSTART;VALUE=DATE:20260503
DTEND;VALUE=DATE:20260503
CLASS:PUBLIC
CREATED:20260415T144923
DESCRIPTION:
LAST-MODIFIED:20260415T144923
LOCATION:
SUMMARY:Baptisms
URL;VALUE=URI:https://www.axiom.church/events/baptisms/2026-05-03
ATTACH;FILENAME=IMG_2173.jpeg;FMTTYPE=image/jpeg:https://dq5pwpg1q8ru0.clou
 dfront.net/2026/04/15/18/49/23/ddb1b768-4475-4496-8127-0d0230ded923/IMG_21
 73.jpeg
END:VEVENT
END:VCALENDAR
